BEGIN:VCALENDAR
VERSION:2.0
PRODID:-//Sabre//Sabre VObject 3.5.3//EN
CALSCALE:GREGORIAN
BEGIN:VTIMEZONE
TZID:Europe/London
BEGIN:STANDARD
TZNAME:GMT
DTSTART:19701025T020000
RRULE:FREQ=YEARLY;BYMONTH=10;BYDAY=-1SU
TZOFFSETFROM:+0100
TZOFFSETTO:+0000
END:STANDARD
BEGIN:DAYLIGHT
TZNAME:BST
DTSTART:19700329T010000
RRULE:FREQ=YEARLY;BYMONTH=3;BYDAY=-1SU
TZOFFSETFROM:+0000
TZOFFSETTO:+0100
END:DAYLIGHT
END:VTIMEZONE
BEGIN:VEVENT
UID:event_205317@aberdeenchorus.scot
DTSTART;VALUE=DATE:20260507
DURATION:P4D
SUMMARY:Regional Joint Convention - Region 31 + 32 
DESCRIPTION:Aberdeen Chorus will be travelling to Manchester in May to take
  part in the Sweet Adelines Regional Convention where they will compete ag
 ainst other choruses in this region. \n\nThis year will be be joint conve
 ntion of the Quartet of Nations Region (UK and Netherlands) and the Nordic
  Light Region (Scandinavian Countries) - the first time this has ever happ
 ened.\n\nIt will take place in the Bridgewater Hall in Manchester\, a wond
 erful venue with a big auditorium and a big stage!\n\n\nExternal website r
 elated to this event: http://https://sweetadelines.org.uk/convention/\n\nF
 or full event details\, visit: https://www.aberdeenchorus.scot/dbpage.php?
 pg=view&dbase=events&id=205317
LOCATION:The Bridgewater Hall\, Lower Mosley St\, Manchester M2 3WS
URL:https://www.aberdeenchorus.scot/dbpage.php?pg=view&dbase=events&id=2053
 17
END:VEVENT
END:VCALENDAR
